BEGIN:VCALENDAR
VERSION:2.0
PRODID:icalendar-ruby
CALSCALE:GREGORIAN
BEGIN:VEVENT
DTSTAMP:20260425T123306Z
UID:effdf577-0c7b-4a17-b3ed-097367693e53
DTSTART;TZID=Pacific/Auckland:20260426T113000
DTEND;TZID=Pacific/Auckland:20260426T121500
DESCRIPTION:Property ID# 607153
SUMMARY:Openhome for 506 Mclaren Falls Road
END:VEVENT
END:VCALENDAR
