BEGIN:VCALENDAR
VERSION:2.0
PRODID:icalendar-ruby
CALSCALE:GREGORIAN
BEGIN:VEVENT
DTSTAMP:20260423T100540Z
UID:619c8201-a610-4d2e-bf41-36a8274dcf0e
DTSTART;TZID=Pacific/Auckland:20260426T113000
DTEND;TZID=Pacific/Auckland:20260426T120000
DESCRIPTION:Property ID# 606934
SUMMARY:Openhome for 41 College Road
END:VEVENT
END:VCALENDAR
