BEGIN:VCALENDAR
VERSION:2.0
PRODID:icalendar-ruby
CALSCALE:GREGORIAN
BEGIN:VEVENT
DTSTAMP:20260420T080817Z
UID:00d7300d-1084-465c-bbb9-cd4a7affb72b
DTSTART;TZID=Pacific/Auckland:20260419T110000
DTEND;TZID=Pacific/Auckland:20260419T113000
DESCRIPTION:Property ID# 599232
SUMMARY:Openhome for 90A Grace Road
END:VEVENT
END:VCALENDAR
