BEGIN:VCALENDAR
VERSION:2.0
PRODID:icalendar-ruby
CALSCALE:GREGORIAN
BEGIN:VEVENT
DTSTAMP:20260419T164749Z
UID:d8f3ab11-07c9-4f7c-9230-e4ddced4eea3
DTSTART;TZID=Pacific/Auckland:20260418T110000
DTEND;TZID=Pacific/Auckland:20260418T113000
DESCRIPTION:Property ID# 604860
SUMMARY:Openhome for 26 Blundell Avenue
END:VEVENT
END:VCALENDAR
