BEGIN:VCALENDAR
VERSION:2.0
PRODID:icalendar-ruby
CALSCALE:GREGORIAN
BEGIN:VEVENT
DTSTAMP:20260419T164617Z
UID:5d8dc4e1-88fc-4a8f-a118-54dbf56a576b
DTSTART;TZID=Pacific/Auckland:20260419T123000
DTEND;TZID=Pacific/Auckland:20260419T131500
DESCRIPTION:Property ID# 605374
SUMMARY:Openhome for 101 Turntable Hill Road
END:VEVENT
END:VCALENDAR
