BEGIN:VCALENDAR
VERSION:2.0
PRODID:icalendar-ruby
CALSCALE:GREGORIAN
BEGIN:VEVENT
DTSTAMP:20260425T161314Z
UID:2f2c9226-6b4d-4971-91c2-61cf40f18e9f
DTSTART;VALUE=DATE:20260513
DESCRIPTION:Property ID# 607050\, Locatoin: at 11:30am\, Harcourts Auction 
 Room\, 1 Third Avenue\, Tauranga\, Time: 12:00PM
SUMMARY:Auction for 10 Evansbel Place
END:VEVENT
END:VCALENDAR
