BEGIN:VCALENDAR
VERSION:2.0
PRODID:icalendar-ruby
CALSCALE:GREGORIAN
BEGIN:VEVENT
DTSTAMP:20260425T122708Z
UID:82fcc0ba-971f-417b-94fb-f0aa44b6284e
DTSTART;VALUE=DATE:20260520
DESCRIPTION:Property ID# 606696\, Locatoin: Harcourts Auction Room\, 1 Thir
 d Avenue\, Tauranga\, Time: 11:30AM
SUMMARY:Auction for 2A Oikimoke Road
END:VEVENT
END:VCALENDAR
