BEGIN:VCALENDAR
VERSION:2.0
PRODID:icalendar-ruby
CALSCALE:GREGORIAN
BEGIN:VEVENT
DTSTAMP:20260419T165927Z
UID:b9093e69-e177-498a-ae3b-c15c9e72bda6
DTSTART;VALUE=DATE:20260409
DESCRIPTION:Property ID# 605606\, Time: 2:00PM
SUMMARY:Auction for 26 Beattie Road
END:VEVENT
END:VCALENDAR
