BEGIN:VCALENDAR
VERSION:2.0
PRODID:icalendar-ruby
CALSCALE:GREGORIAN
BEGIN:VEVENT
DTSTAMP:20260419T165114Z
UID:fce526ba-9772-483f-b31a-519373c360d7
DTSTART;VALUE=DATE:20260423
DESCRIPTION:Property ID# 604860\, Locatoin: Harcourts office\, 256 The Stra
 nd\, Whakatane\, Time: 1:00PM
SUMMARY:Auction for 26 Blundell Avenue
END:VEVENT
END:VCALENDAR
