BEGIN:VCALENDAR
VERSION:2.0
PRODID:icalendar-ruby
CALSCALE:GREGORIAN
BEGIN:VEVENT
DTSTAMP:20260419T203810Z
UID:78d2c672-565b-472e-b219-4f28d49a795b
DTSTART;VALUE=DATE:20260429
DESCRIPTION:Property ID# 604184\, Locatoin: at 11:30am\, Harcourts Auction 
 Room\, 1 Third Avenue\, Tauranga\, Time: 12:00PM
SUMMARY:Auction for 33G Waimapu Street
END:VEVENT
END:VCALENDAR
