BEGIN:VCALENDAR
VERSION:2.0
PRODID:icalendar-ruby
CALSCALE:GREGORIAN
BEGIN:VEVENT
DTSTAMP:20260420T043101Z
UID:f87356d5-d8b7-41cb-9594-a1e753ad9ff0
DTSTART;VALUE=DATE:20260318
DESCRIPTION:Property ID# 598670\, Locatoin: Bayleys Auction Rooms 47 Camero
 n Road\, Time: 1:00PM
SUMMARY:Auction for 1069 Cameron Road
END:VEVENT
END:VCALENDAR
