BEGIN:VCALENDAR
VERSION:2.0
PRODID:icalendar-ruby
CALSCALE:GREGORIAN
BEGIN:VEVENT
DTSTAMP:20260425T160945Z
UID:13d2c436-b14b-4f4a-a4ec-d88dc0e04cd2
DTSTART;VALUE=DATE:20250212
DESCRIPTION:Property ID# 587061\, Locatoin: Harcourts Auction Rooms\, 1 Thi
 rd Avenue\, Tauranga (Unless Sold Prior)\, Time: 1:00PM
SUMMARY:Auction for 
END:VEVENT
END:VCALENDAR
