BEGIN:VCALENDAR
VERSION:2.0
PRODID:icalendar-ruby
CALSCALE:GREGORIAN
BEGIN:VEVENT
DTSTAMP:20260419T210005Z
UID:978e96e7-0753-4c8d-ab3c-dbcd6345066b
DTSTART;VALUE=DATE:20220615
DESCRIPTION:Property ID# 535429\, Time: 1:00PM
SUMMARY:Auction for 
END:VEVENT
END:VCALENDAR
