BEGIN:VCALENDAR
VERSION:2.0
PRODID:icalendar-ruby
CALSCALE:GREGORIAN
BEGIN:VEVENT
DTSTAMP:20260420T042606Z
UID:f9745a17-ed36-4557-bc5d-cc74f795d137
DTSTART;VALUE=DATE:20211201
DESCRIPTION:Property ID# 520821\, Locatoin: In Rooms - Papamoa Tremains\, T
 ime: 11:00AM
SUMMARY:Auction for 
END:VEVENT
END:VCALENDAR
