BEGIN:VCALENDAR
VERSION:2.0
PRODID:icalendar-ruby
CALSCALE:GREGORIAN
BEGIN:VEVENT
DTSTAMP:20260420T043120Z
UID:0c8b0d5d-0ebe-47a0-b0d4-8306ca501eae
DTSTART;VALUE=DATE:20211117
DESCRIPTION:Property ID# 520474\, Locatoin: In Rooms - Papamoa Tremains\, T
 ime: 11:00AM
SUMMARY:Auction for 
END:VEVENT
END:VCALENDAR
