BEGIN:VCALENDAR
VERSION:2.0
PRODID:icalendar-ruby
CALSCALE:GREGORIAN
BEGIN:VEVENT
DTSTAMP:20260420T005303Z
UID:6e92804f-4d4c-4088-9e32-84200be655e1
DTSTART;VALUE=DATE:20210527
DESCRIPTION:Property ID# 507627\, Locatoin: Bayleys\, 247 Cameron Road\, Ta
 uranga\, Time: 4:00PM
SUMMARY:Auction for 
END:VEVENT
END:VCALENDAR
