BEGIN:VCALENDAR
VERSION:2.0
PRODID:icalendar-ruby
CALSCALE:GREGORIAN
BEGIN:VEVENT
DTSTAMP:20260420T003638Z
UID:90d9a191-aec6-4934-94d3-b4d229fa7c02
DTSTART;VALUE=DATE:20201126
DESCRIPTION:Property ID# 492273\, Locatoin:  247 Cameron Road\, Tauranga (u
 nless sold prior)	\, Time: 4:00PM
SUMMARY:Auction for 
END:VEVENT
END:VCALENDAR
