BEGIN:VCALENDAR
VERSION:2.0
PRODID:icalendar-ruby
CALSCALE:GREGORIAN
BEGIN:VEVENT
DTSTAMP:20260420T005351Z
UID:74594189-6d40-4db0-a9c8-d065de71ebcd
DTSTART;VALUE=DATE:20200909
DESCRIPTION:Property ID# 485137\, Locatoin: Bayleys Auction Rooms \, Time: 
 1:00PM
SUMMARY:Auction for 
END:VEVENT
END:VCALENDAR
