BEGIN:VCALENDAR
VERSION:2.0
PRODID:icalendar-ruby
CALSCALE:GREGORIAN
BEGIN:VEVENT
DTSTAMP:20260420T042825Z
UID:0767991f-bafe-4475-965d-32058ca84863
DTSTART;VALUE=DATE:20200305
DESCRIPTION:Property ID# 471942\, Locatoin: On Site (unless sold prior)\, T
 ime: 11:00AM
SUMMARY:Auction for 
END:VEVENT
END:VCALENDAR
