BEGIN:VCALENDAR
VERSION:2.0
PRODID:icalendar-ruby
CALSCALE:GREGORIAN
BEGIN:VEVENT
DTSTAMP:20260420T045513Z
UID:620a8589-3ad7-4899-82e5-5b9790a82773
DTSTART;VALUE=DATE:20190918
DESCRIPTION:Property ID# 459274\, Locatoin: Bayleys Auction Rooms \, Time: 
 1:00PM
SUMMARY:Auction for 
END:VEVENT
END:VCALENDAR
